BEGIN:VCALENDAR
VERSION:2.0
PRODID:icalendar-ruby
CALSCALE:GREGORIAN
METHOD:PUBLISH
BEGIN:VEVENT
DTSTAMP:20260419T121540Z
UID:152-311840@newvisioncsl.org
DTSTART:20260419T183000Z
DTEND:20260419T200000Z
CLASS:PUBLIC
CREATED:20260409T152238
DESCRIPTION:There will be an Outreach Team meeting on Sunday\, April 19th\,
  in Room 3.  If you’re curious about the fun and meaningful work the Ou
 treach Team is doing\, mark your calendar and plan to join us.   
LAST-MODIFIED:20260409T152238
LOCATION:Room 3 in Education Building
SUMMARY:Outreach Team Meeting
URL;VALUE=URI:https://www.newvisioncsl.org/events/outreach-team-meeting/202
 6-04-19
ATTACH;FILENAME=Outreach-Team-Meeting-1500-x-784-px.png;FMTTYPE=image/png:h
 ttps://dq5pwpg1q8ru0.cloudfront.net/2026/04/09/22/22/38/62491f0a-4d29-4ff4
 -980b-5f01e75f395c/Outreach-Team-Meeting-1500-x-784-px.png
END:VEVENT
END:VCALENDAR
