BEGIN:VCALENDAR
VERSION:2.0
PRODID:icalendar-ruby
CALSCALE:GREGORIAN
METHOD:PUBLISH
BEGIN:VEVENT
DTSTAMP:20260420T061824Z
UID:56-322697@newvisioncsl.org
DTSTART:20260901T013000Z
DTEND:20260901T030000Z
CLASS:PUBLIC
CREATED:20260419T205828
DESCRIPTION:
LAST-MODIFIED:20260419T205828
LOCATION:Zoom
SUMMARY:A Course in Miracles Study Group
URL;VALUE=URI:https://www.newvisioncsl.org/events/a-course-in-miracles-stud
 y-group--56/2026-08-31
ATTACH;FILENAME=A-Course-in-Miracles-Slide-%281500-x-784-px%29.png;FMTTYPE=
 image/png:https://dq5pwpg1q8ru0.cloudfront.net/2025/07/20/01/34/00/8d77f58
 0-0c91-4b9f-8ef0-8f42ca77401c/A-Course-in-Miracles-Slide-%25281500-x-784-p
 x%2529.png
END:VEVENT
END:VCALENDAR
